BEGIN:VCALENDAR
VERSION:2.0
PRODID:-//Town of Hawley - ECPv6.15.20//NONSGML v1.0//EN
CALSCALE:GREGORIAN
METHOD:PUBLISH
X-WR-CALNAME:Town of Hawley
X-ORIGINAL-URL:https://townofhawley.com
X-WR-CALDESC:Events for Town of Hawley
REFRESH-INTERVAL;VALUE=DURATION:PT1H
X-Robots-Tag:noindex
X-PUBLISHED-TTL:PT1H
BEGIN:VTIMEZONE
TZID:America/New_York
BEGIN:DAYLIGHT
TZOFFSETFROM:-0500
TZOFFSETTO:-0400
TZNAME:EDT
DTSTART:20240310T070000
END:DAYLIGHT
BEGIN:STANDARD
TZOFFSETFROM:-0400
TZOFFSETTO:-0500
TZNAME:EST
DTSTART:20241103T060000
END:STANDARD
BEGIN:DAYLIGHT
TZOFFSETFROM:-0500
TZOFFSETTO:-0400
TZNAME:EDT
DTSTART:20250309T070000
END:DAYLIGHT
BEGIN:STANDARD
TZOFFSETFROM:-0400
TZOFFSETTO:-0500
TZNAME:EST
DTSTART:20251102T060000
END:STANDARD
BEGIN:DAYLIGHT
TZOFFSETFROM:-0500
TZOFFSETTO:-0400
TZNAME:EDT
DTSTART:20260308T070000
END:DAYLIGHT
BEGIN:STANDARD
TZOFFSETFROM:-0400
TZOFFSETTO:-0500
TZNAME:EST
DTSTART:20261101T060000
END:STANDARD
END:VTIMEZONE
BEGIN:VEVENT
DTSTART;TZID=America/New_York:20250529T163000
DTEND;TZID=America/New_York:20250529T190000
DTSTAMP:20260423T083516
CREATED:20250527T174518Z
LAST-MODIFIED:20250527T174518Z
UID:13013-1748536200-1748545200@townofhawley.com
SUMMARY:All-School Celebration
DESCRIPTION:Hawlemont School will hold an all-school celebration from 4:30 to 7 p.m. This is a special commemoration of the tenth anniversary of the school’s innovative agriculture program\, HAY. The afternoon will include a plant sale\, a seed swap\, an exciting game of cow/sheep/pig patty bingo\, student exhibits\, an art show\, and dinner. Come see what our wonderful school has been up to!
URL:https://townofhawley.com/event/all-school-celebration/
LOCATION:Hawlemont School\, 10 School Street\, Charlemont\, MA\, 01339
CATEGORIES:Community Events
END:VEVENT
BEGIN:VEVENT
DTSTART;TZID=America/New_York:20250529T160000
DTEND;TZID=America/New_York:20250529T180000
DTSTAMP:20260423T083516
CREATED:20250527T174748Z
LAST-MODIFIED:20250527T174748Z
UID:13014-1748534400-1748541600@townofhawley.com
SUMMARY:Smithsonian Exhibit Closing Night
DESCRIPTION:Museum on Main Street: Voices and Votes will wrap up with a look at student projects inspired by the exhibit and a brief concert of historical songs by Hawley’s own Tinky Weisblat. Like the exhibit\, this event will take place in the school library. It will be followed by Awards Night in the auditorium.
URL:https://townofhawley.com/event/smithsonian-exhibit-closing-night/
LOCATION:Mohawk Trail Regional School\, 26 Ashfield Road\, (Route 112 in Buckland)\, MA\, 01370
CATEGORIES:Arts and Culture,Community Events,History
END:VEVENT
BEGIN:VEVENT
DTSTART;TZID=America/New_York:20250527T163000
DTEND;TZID=America/New_York:20250527T173000
DTSTAMP:20260423T083516
CREATED:20250522T150552Z
LAST-MODIFIED:20250522T153124Z
UID:12995-1748363400-1748367000@townofhawley.com
SUMMARY:Council on Aging Meeting
DESCRIPTION:The group will confer with LifePath about the Villages program. Here is the Zoom link for participation: \nhttps://us06web.zoom.us/j/8680277392?pwd=UjhaLzdiZFhGR043SGwvOXdBZjgzQT09 \n 
URL:https://townofhawley.com/event/council-on-aging-meeting-7/
LOCATION:Hawley Town Office\, 8 Pudding Hollow Road\, Hawley\, MA\, 01339\, United States
CATEGORIES:Board and Committee Meetings
END:VEVENT
BEGIN:VEVENT
DTSTART;TZID=America/New_York:20250520T190000
DTEND;TZID=America/New_York:20250520T203000
DTSTAMP:20260423T083516
CREATED:20250515T185526Z
LAST-MODIFIED:20250516T132741Z
UID:12987-1747767600-1747773000@townofhawley.com
SUMMARY:Selectboard/ZBA/Board of Health
DESCRIPTION:Here is the agenda for this biweekly meeting.
URL:https://townofhawley.com/event/selectboard-zba-board-of-health-5/
LOCATION:Hawley Town Office\, 8 Pudding Hollow Road\, Hawley\, MA\, 01339\, United States
CATEGORIES:Board and Committee Meetings
END:VEVENT
BEGIN:VEVENT
DTSTART;TZID=America/New_York:20250518T104500
DTEND;TZID=America/New_York:20250518T113000
DTSTAMP:20260423T083516
CREATED:20250412T143822Z
LAST-MODIFIED:20250412T143822Z
UID:12939-1747565100-1747567800@townofhawley.com
SUMMARY:Cummington Antique Tractors Come to Hawley
DESCRIPTION:This annual parade will end up at the Hawley Fire Station at approximately 11 a.m. Come see the tractors and have a little nibble and coffee\, thanks to our firefighters!
URL:https://townofhawley.com/event/cummington-antique-tractors-come-to-hawley/
LOCATION:Hawley Fire Station\, 16 Plainfield Road (go up East Hawley Road and keep driving!)\, Hawley\, MA\, 01339\, United States
END:VEVENT
BEGIN:VEVENT
DTSTART;TZID=America/New_York:20250517T110000
DTEND;TZID=America/New_York:20250517T140000
DTSTAMP:20260423T083516
CREATED:20250319T184629Z
LAST-MODIFIED:20250319T184629Z
UID:12886-1747479600-1747490400@townofhawley.com
SUMMARY:Hawley's SPRING FLING!!
DESCRIPTION:This event\, organized by the Council on Aging and the Town\, will include creating May Baskets\, talking about what brought us to Hawley\, lunch\, and a sing-along.
URL:https://townofhawley.com/event/hawleys-spring-fling/
LOCATION:Charlemont Federated Church\, 174 Main Street (Route 2)\, Charlemont\, MA\, 01339
CATEGORIES:Arts and Culture,Community Events
END:VEVENT
BEGIN:VEVENT
DTSTART;TZID=America/New_York:20250517T090000
DTEND;TZID=America/New_York:20250517T120000
DTSTAMP:20260423T083516
CREATED:20250321T181744Z
LAST-MODIFIED:20250321T181744Z
UID:12892-1747472400-1747483200@townofhawley.com
SUMMARY:Bulky Waste Disposal
DESCRIPTION:Here are the details on disposing of your bulky waste.
URL:https://townofhawley.com/event/bulky-waste-disposal/
LOCATION:Mohawk Trail Regional School\, 26 Ashfield Road\, (Route 112 in Buckland)\, MA\, 01370
CATEGORIES:Special Dump Events
END:VEVENT
BEGIN:VEVENT
DTSTART;TZID=America/New_York:20250512T190000
DTEND;TZID=America/New_York:20250512T203000
DTSTAMP:20260423T083516
CREATED:20250319T184826Z
LAST-MODIFIED:20250424T165515Z
UID:12887-1747076400-1747081800@townofhawley.com
SUMMARY:Annual Town Meeting
DESCRIPTION:Here is the warrant for this annual meeting.
URL:https://townofhawley.com/event/annual-town-meeting-3/
LOCATION:Hawley Town Office\, 8 Pudding Hollow Road\, Hawley\, MA\, 01339\, United States
CATEGORIES:Community Events,Elections
END:VEVENT
BEGIN:VEVENT
DTSTART;TZID=America/New_York:20250508T190000
DTEND;TZID=America/New_York:20250508T203000
DTSTAMP:20260423T083516
CREATED:20250411T231941Z
LAST-MODIFIED:20250414T131426Z
UID:12934-1746730800-1746736200@townofhawley.com
SUMMARY:Conservation Commission Meeting
DESCRIPTION:THE AGENDA:\n\nAct on a Notice of Intent filed in accordance with the Wetlands Protection Act. Notice has been filed by the Town of Hawley concerning the replacement of a culvert on Ashfield Road.  Copies of the Notice of Intent may be viewed at the Hawley Town Office during office hours of the Administrative Assistant. or by contracting Lloyd Crawford\n\nUpdate on status of other projects underway:  Ashfield Road\, King Corner Culvert\,Hawley Garage Bank improvement.\n\nReview minutes of prior meetings\n\nAny other new business not reasonably anticipated 48 hours in advance of this meeting
URL:https://townofhawley.com/event/conservation-commission-meeting-7/
LOCATION:Hawley Town Office\, 8 Pudding Hollow Road\, Hawley\, MA\, 01339\, United States
CATEGORIES:Board and Committee Meetings
END:VEVENT
BEGIN:VEVENT
DTSTART;TZID=America/New_York:20250507T170000
DTEND;TZID=America/New_York:20250507T183000
DTSTAMP:20260423T083516
CREATED:20250412T143222Z
LAST-MODIFIED:20250430T154128Z
UID:12936-1746637200-1746642600@townofhawley.com
SUMMARY:Assessors' Meeting
DESCRIPTION:Here is the agenda for this monthly meeting.
URL:https://townofhawley.com/event/assessors-meeting-23/
LOCATION:Hawley Town Office\, 8 Pudding Hollow Road\, Hawley\, MA\, 01339\, United States
CATEGORIES:Board and Committee Meetings
END:VEVENT
BEGIN:VEVENT
DTSTART;TZID=America/New_York:20250506T190000
DTEND;TZID=America/New_York:20250506T203000
DTSTAMP:20260423T083516
CREATED:20250502T134309Z
LAST-MODIFIED:20250502T135637Z
UID:12969-1746558000-1746563400@townofhawley.com
SUMMARY:Selectboard/ZBA/Board of Health
DESCRIPTION:Here is the agenda for this biweekly meeting.
URL:https://townofhawley.com/event/selectboard-zba-board-of-health-4/
LOCATION:Hawley Town Office\, 8 Pudding Hollow Road\, Hawley\, MA\, 01339\, United States
CATEGORIES:Board and Committee Meetings
END:VEVENT
BEGIN:VEVENT
DTSTART;TZID=America/New_York:20250505T114500
DTEND;TZID=America/New_York:20250505T190000
DTSTAMP:20260423T083516
CREATED:20250319T184320Z
LAST-MODIFIED:20250424T170411Z
UID:12882-1746445500-1746471600@townofhawley.com
SUMMARY:Town Election
DESCRIPTION:Polling hours at the Hawley Town Office will be from 11:45 to 7 p.m. \nHere is the warrant for this annual election.
URL:https://townofhawley.com/event/town-election/
LOCATION:Hawley Town Office\, 8 Pudding Hollow Road\, Hawley\, MA\, 01339\, United States
CATEGORIES:Elections
END:VEVENT
BEGIN:VEVENT
DTSTART;TZID=America/New_York:20250503T130000
DTEND;TZID=America/New_York:20250503T140000
DTSTAMP:20260423T083516
CREATED:20250412T143423Z
LAST-MODIFIED:20250412T143423Z
UID:12937-1746277200-1746280800@townofhawley.com
SUMMARY:Wingmasters: Birds of Prey
DESCRIPTION:
URL:https://townofhawley.com/event/wingmasters-birds-of-prey/
LOCATION:Hawlemont School\, 10 School Street\, Charlemont\, MA\, 01339
CATEGORIES:Community Events
END:VEVENT
BEGIN:VEVENT
DTSTART;TZID=America/New_York:20250422T190000
DTEND;TZID=America/New_York:20250422T203000
DTSTAMP:20260423T083516
CREATED:20250412T143106Z
LAST-MODIFIED:20250424T144502Z
UID:12935-1745348400-1745353800@townofhawley.com
SUMMARY:Selectboard/ZBA/Board of Health
DESCRIPTION:Here is the agenda for this biweekly meeting.
URL:https://townofhawley.com/event/selectboard-zba-board-of-health-3/
LOCATION:Hawley Town Office\, 8 Pudding Hollow Road\, Hawley\, MA\, 01339\, United States
CATEGORIES:Board and Committee Meetings
END:VEVENT
BEGIN:VEVENT
DTSTART;TZID=America/New_York:20250416T170000
DTEND;TZID=America/New_York:20250416T180000
DTSTAMP:20260423T083516
CREATED:20250410T023943Z
LAST-MODIFIED:20250410T023943Z
UID:12933-1744822800-1744826400@townofhawley.com
SUMMARY:Planning Board Meeting
DESCRIPTION:Agenda items before the Planning Board’s upcoming meeting: \n\nApproval of February (lack of quorum for March meeting) minutes\,\nDiscussion of necessary steps to bring the proposed definition and bylaw amendment (for state-mandated ADU compliance) before the town for approval at a special town meeting\,\nAny other business not reasonably anticipated 48 hours in advance of this meeting
URL:https://townofhawley.com/event/planning-board-meeting-7/
LOCATION:Hawley Town Office\, 8 Pudding Hollow Road\, Hawley\, MA\, 01339\, United States
CATEGORIES:Board and Committee Meetings
END:VEVENT
BEGIN:VEVENT
DTSTART;TZID=America/New_York:20250415T080000
DTEND;TZID=America/New_York:20250415T170000
DTSTAMP:20260423T083516
CREATED:20250224T205615Z
LAST-MODIFIED:20250224T205615Z
UID:12839-1744704000-1744736400@townofhawley.com
SUMMARY:Tinky Out of Office
DESCRIPTION:Gal Friday Tinky Weisblat will hold office hours on Monday instead of Tuesday this week.
URL:https://townofhawley.com/event/tinky-out-of-office/
LOCATION:MA
CATEGORIES:Out of Office Information
END:VEVENT
BEGIN:VEVENT
DTSTART;TZID=America/New_York:20250414T120000
DTEND;TZID=America/New_York:20250414T160000
DTSTAMP:20260423T083516
CREATED:20250224T205513Z
LAST-MODIFIED:20250224T205643Z
UID:12838-1744632000-1744646400@townofhawley.com
SUMMARY:Tinky Special Office Hours
DESCRIPTION:Gal Friday Tinky Weisblat will be in the office on Monday instead of Tuesday this week.
URL:https://townofhawley.com/event/tinky-special-office-hours-3/
LOCATION:Hawley Town Office\, 8 Pudding Hollow Road\, Hawley\, MA\, 01339\, United States
CATEGORIES:Out of Office Information
END:VEVENT
BEGIN:VEVENT
DTSTART;TZID=America/New_York:20250412T123000
DTEND;TZID=America/New_York:20250412T140000
DTSTAMP:20260423T083516
CREATED:20250321T182120Z
LAST-MODIFIED:20250321T182120Z
UID:12894-1744461000-1744466400@townofhawley.com
SUMMARY:Tyler Memorial Library Open House
DESCRIPTION:
URL:https://townofhawley.com/event/tyler-memorial-library-open-house/
LOCATION:Tyler Memorial Library\, 157 Main Street (Route 2)\, Charlemont\, MA\, 01339
CATEGORIES:Arts and Culture,Community Events
END:VEVENT
BEGIN:VEVENT
DTSTART;TZID=America/New_York:20250411T170000
DTEND;TZID=America/New_York:20250411T170000
DTSTAMP:20260423T083516
CREATED:20250319T183836Z
LAST-MODIFIED:20250319T183942Z
UID:12880-1744390800-1744390800@townofhawley.com
SUMMARY:Warrant Articles Due for Annual Town Meeting
DESCRIPTION:
URL:https://townofhawley.com/event/warrant-articles-due-for-annual-town-meeting/
LOCATION:Hawley Town Office\, 8 Pudding Hollow Road\, Hawley\, MA\, 01339\, United States
CATEGORIES:Deadlines
END:VEVENT
BEGIN:VEVENT
DTSTART;VALUE=DATE:20250409
DTEND;VALUE=DATE:20250410
DTSTAMP:20260423T083516
CREATED:20250401T194007Z
LAST-MODIFIED:20250401T194007Z
UID:12909-1744156800-1744243199@townofhawley.com
SUMMARY:Town Clerk Out of Office
DESCRIPTION:
URL:https://townofhawley.com/event/town-clerk-out-of-office-2/
LOCATION:MA
CATEGORIES:Out of Office Information
END:VEVENT
BEGIN:VEVENT
DTSTART;TZID=America/New_York:20250408T183000
DTEND;TZID=America/New_York:20250408T203000
DTSTAMP:20260423T083516
CREATED:20250319T164646Z
LAST-MODIFIED:20250405T153444Z
UID:12876-1744137000-1744144200@townofhawley.com
SUMMARY:Pole Hearing Followed by Selectboard/ZBA/Board of Health Meeting
DESCRIPTION:Here is the agenda for this meeting. The meeting will begin at 6:30 with a pole hearing with National Grid/Verizon about work on Ashfield Road. Here is a map of the proposed change.
URL:https://townofhawley.com/event/pole-hearing-followed-by-selectboard-zba-board-of-health-meeting/
LOCATION:Hawley Town Office\, 8 Pudding Hollow Road\, Hawley\, MA\, 01339\, United States
CATEGORIES:Board and Committee Meetings
END:VEVENT
BEGIN:VEVENT
DTSTART;TZID=America/New_York:20250407T090000
DTEND;TZID=America/New_York:20250407T110000
DTSTAMP:20260423T083516
CREATED:20250321T192713Z
LAST-MODIFIED:20250321T192713Z
UID:12896-1744016400-1744023600@townofhawley.com
SUMMARY:Council on Aging Meeting
DESCRIPTION:
URL:https://townofhawley.com/event/council-on-aging-meeting-6/
LOCATION:Hawley Town Office\, 8 Pudding Hollow Road\, Hawley\, MA\, 01339\, United States
CATEGORIES:Board and Committee Meetings
END:VEVENT
BEGIN:VEVENT
DTSTART;TZID=America/New_York:20250406T163000
DTEND;TZID=America/New_York:20250406T190000
DTSTAMP:20260423T083516
CREATED:20250321T193139Z
LAST-MODIFIED:20250321T193139Z
UID:12897-1743957000-1743966000@townofhawley.com
SUMMARY:Mud Party
DESCRIPTION:This annual event is sponsored by the Sons & Daughters of Hawley. \nPlease bring an appetizer\, entrée\, salad\, side\, or dessert\, whatever you would like to drink\, and a hearty appetite. Mud-colored food is welcome but not essential. \nQuestions? Call Tinky Weisblat at 413-339-4747.
URL:https://townofhawley.com/event/mud-party/
LOCATION:Casa Tinky\, 84 Middle Road\, Hawley\, MA\, 01339\, United States
CATEGORIES:Community Events
END:VEVENT
BEGIN:VEVENT
DTSTART;TZID=America/New_York:20250402T170000
DTEND;TZID=America/New_York:20250402T183000
DTSTAMP:20260423T083516
CREATED:20250326T170156Z
LAST-MODIFIED:20250326T170156Z
UID:12900-1743613200-1743618600@townofhawley.com
SUMMARY:Assessors' Meeting
DESCRIPTION:Here is the agenda for this monthly meeting.
URL:https://townofhawley.com/event/assessors-meeting-22/
LOCATION:Hawley Town Office\, 8 Pudding Hollow Road\, Hawley\, MA\, 01339\, United States
CATEGORIES:Board and Committee Meetings
END:VEVENT
BEGIN:VEVENT
DTSTART;TZID=America/New_York:20250325T190000
DTEND;TZID=America/New_York:20250325T203000
DTSTAMP:20260423T083516
CREATED:20250314T135013Z
LAST-MODIFIED:20250320T133526Z
UID:12873-1742929200-1742934600@townofhawley.com
SUMMARY:Selectboard/ZBA/Board of Health
DESCRIPTION:Here is the agenda for this biweekly meeting.
URL:https://townofhawley.com/event/selectboard-zba-board-of-health-2/
LOCATION:Hawley Town Office\, 8 Pudding Hollow Road\, Hawley\, MA\, 01339\, United States
CATEGORIES:Board and Committee Meetings
END:VEVENT
BEGIN:VEVENT
DTSTART;TZID=America/New_York:20250322T100000
DTEND;TZID=America/New_York:20250322T120000
DTSTAMP:20260423T083516
CREATED:20250129T155733Z
LAST-MODIFIED:20250129T155733Z
UID:12796-1742637600-1742644800@townofhawley.com
SUMMARY:HAY Workshop: Beyond Flowering Plants
DESCRIPTION:Native-plant expert Amy Meltzer will present BEYOND FLOWERING PLANTS: HELPING POLLINATORS THRIVE YEAR ROUND. This talk includes a brief introduction to the biodiversity crisis\, explaining why providing habitat for pollinators is essential for maintaining a sustainable ecosystem. Amy will show that pollinators not only need flowering native plants as food for adults but also need specialized native plants that provide food for their young. Attendees will learn about the kinds of shelter needed year round for pollinator health and reproduction\, and how to manage their landscape to provide it. Amy will also discuss the need for water and the importance of minimizing night light. She will share extensive resources on choosing and sourcing native plants and managing landscapes to support biodiversity. \nIn addition to the presentation\, participants can sign up for a free one-hour consultation with a native-plant expert (value $200)\, and receive a free starter set of plants for their own yard (value $150). These will both be implemented during the growing season. \nThis program is sponsored by the Franklin Conservation District through a grant from the Massachusetts Executive Office of Energy and Environmental Affairs. See the district’s website for more information: https://franklinconservationdistrict.org/native-plants-projects/. The cost for this event is $20\, with checks made payable to Hawlemont HAY. \nTo enroll\, contact HAY teacher Jennifer Sinistore\, jsinistore@mtrsd.org.
URL:https://townofhawley.com/event/hay-workshop-beyond-flowering-plants/
LOCATION:Hawlemont School\, 10 School Street\, Charlemont\, MA\, 01339
CATEGORIES:Community Events
END:VEVENT
BEGIN:VEVENT
DTSTART;TZID=America/New_York:20250321T110000
DTEND;TZID=America/New_York:20250321T130000
DTSTAMP:20260423T083516
CREATED:20250319T174402Z
LAST-MODIFIED:20250319T174402Z
UID:12879-1742554800-1742562000@townofhawley.com
SUMMARY:Town Clerk in the Office
DESCRIPTION:
URL:https://townofhawley.com/event/town-clerk-in-the-office/
LOCATION:Hawley Town Office\, 8 Pudding Hollow Road\, Hawley\, MA\, 01339\, United States
CATEGORIES:Out of Office Information
END:VEVENT
BEGIN:VEVENT
DTSTART;TZID=America/New_York:20250319T190000
DTEND;TZID=America/New_York:20250319T210000
DTSTAMP:20260423T083516
CREATED:20250319T184404Z
LAST-MODIFIED:20250319T184404Z
UID:12883-1742410800-1742418000@townofhawley.com
SUMMARY:Annual Town Meeting
DESCRIPTION:
URL:https://townofhawley.com/event/annual-town-meeting-2/
LOCATION:Hawley Town Office\, 8 Pudding Hollow Road\, Hawley\, MA\, 01339\, United States
CATEGORIES:Elections
END:VEVENT
BEGIN:VEVENT
DTSTART;TZID=America/New_York:20250319T100000
DTEND;TZID=America/New_York:20250319T140000
DTSTAMP:20260423T083516
CREATED:20250319T174309Z
LAST-MODIFIED:20250319T174309Z
UID:12878-1742378400-1742392800@townofhawley.com
SUMMARY:Town Clerk Out of Office
DESCRIPTION:
URL:https://townofhawley.com/event/town-clerk-out-of-office/
LOCATION:MA
CATEGORIES:Out of Office Information
END:VEVENT
BEGIN:VEVENT
DTSTART;TZID=America/New_York:20250317T150000
DTEND;TZID=America/New_York:20250317T170000
DTSTAMP:20260423T083516
CREATED:20250226T154044Z
LAST-MODIFIED:20250226T154044Z
UID:12843-1742223600-1742230800@townofhawley.com
SUMMARY:Personnel Committee Meeting
DESCRIPTION:Hawley’s Personnel Committee will discuss proposed changes to their policy.
URL:https://townofhawley.com/event/personnel-committee-meeting-3/
LOCATION:Hawley Town Office\, 8 Pudding Hollow Road\, Hawley\, MA\, 01339\, United States
CATEGORIES:Board and Committee Meetings
END:VEVENT
END:VCALENDAR