BEGIN:VCALENDAR
VERSION:2.0
PRODID:-//Town of Hawley - ECPv6.15.20//NONSGML v1.0//EN
CALSCALE:GREGORIAN
METHOD:PUBLISH
X-WR-CALNAME:Town of Hawley
X-ORIGINAL-URL:https://townofhawley.com
X-WR-CALDESC:Events for Town of Hawley
REFRESH-INTERVAL;VALUE=DURATION:PT1H
X-Robots-Tag:noindex
X-PUBLISHED-TTL:PT1H
BEGIN:VTIMEZONE
TZID:America/New_York
BEGIN:DAYLIGHT
TZOFFSETFROM:-0500
TZOFFSETTO:-0400
TZNAME:EDT
DTSTART:20230312T070000
END:DAYLIGHT
BEGIN:STANDARD
TZOFFSETFROM:-0400
TZOFFSETTO:-0500
TZNAME:EST
DTSTART:20231105T060000
END:STANDARD
BEGIN:DAYLIGHT
TZOFFSETFROM:-0500
TZOFFSETTO:-0400
TZNAME:EDT
DTSTART:20240310T070000
END:DAYLIGHT
BEGIN:STANDARD
TZOFFSETFROM:-0400
TZOFFSETTO:-0500
TZNAME:EST
DTSTART:20241103T060000
END:STANDARD
BEGIN:DAYLIGHT
TZOFFSETFROM:-0500
TZOFFSETTO:-0400
TZNAME:EDT
DTSTART:20250309T070000
END:DAYLIGHT
BEGIN:STANDARD
TZOFFSETFROM:-0400
TZOFFSETTO:-0500
TZNAME:EST
DTSTART:20251102T060000
END:STANDARD
END:VTIMEZONE
BEGIN:VEVENT
DTSTART;TZID=America/New_York:20240329T094500
DTEND;TZID=America/New_York:20240329T103000
DTSTAMP:20260423T052149
CREATED:20240304T150348Z
LAST-MODIFIED:20240304T150348Z
UID:12215-1711705500-1711708200@townofhawley.com
SUMMARY:Hawlemont Pre-K Registration
DESCRIPTION:Registration will take place at this time for Pre-Kindergarten for the school year 2024-2025.  Please bring the required information: the child’s birth certificate\, lead test\, and proof of residency and immunization. For further information\, call the school at 413-339-8316.
URL:https://townofhawley.com/event/hawlemont-pre-k-registration/
CATEGORIES:School Registration
END:VEVENT
BEGIN:VEVENT
DTSTART;TZID=America/New_York:20240329T090000
DTEND;TZID=America/New_York:20240329T094500
DTSTAMP:20260423T052149
CREATED:20240304T150220Z
LAST-MODIFIED:20240304T150457Z
UID:12214-1711702800-1711705500@townofhawley.com
SUMMARY:Hawlemont Kindergarten Registration
DESCRIPTION:Registration will take place at this time for Kindergarten for the school year 2024-2025.  Please bring the required information: the child’s birth certificate\, lead test\, and proof of residency and immunization. For further information\, call the school at 413-339-8316.
URL:https://townofhawley.com/event/hawlemont-kindergarten-registration/
LOCATION:Hawlemont School\, 10 School Street\, Charlemont\, MA\, 01339
CATEGORIES:School Registration
END:VEVENT
END:VCALENDAR