BEGIN:VCALENDAR
VERSION:2.0
PRODID:-//Town of Hawley - ECPv6.15.20//NONSGML v1.0//EN
CALSCALE:GREGORIAN
METHOD:PUBLISH
X-WR-CALNAME:Town of Hawley
X-ORIGINAL-URL:https://townofhawley.com
X-WR-CALDESC:Events for Town of Hawley
REFRESH-INTERVAL;VALUE=DURATION:PT1H
X-Robots-Tag:noindex
X-PUBLISHED-TTL:PT1H
BEGIN:VTIMEZONE
TZID:America/New_York
BEGIN:DAYLIGHT
TZOFFSETFROM:-0500
TZOFFSETTO:-0400
TZNAME:EDT
DTSTART:20250309T070000
END:DAYLIGHT
BEGIN:STANDARD
TZOFFSETFROM:-0400
TZOFFSETTO:-0500
TZNAME:EST
DTSTART:20251102T060000
END:STANDARD
BEGIN:DAYLIGHT
TZOFFSETFROM:-0500
TZOFFSETTO:-0400
TZNAME:EDT
DTSTART:20260308T070000
END:DAYLIGHT
BEGIN:STANDARD
TZOFFSETFROM:-0400
TZOFFSETTO:-0500
TZNAME:EST
DTSTART:20261101T060000
END:STANDARD
BEGIN:DAYLIGHT
TZOFFSETFROM:-0500
TZOFFSETTO:-0400
TZNAME:EDT
DTSTART:20270314T070000
END:DAYLIGHT
BEGIN:STANDARD
TZOFFSETFROM:-0400
TZOFFSETTO:-0500
TZNAME:EST
DTSTART:20271107T060000
END:STANDARD
END:VTIMEZONE
BEGIN:VEVENT
DTSTART;TZID=America/New_York:20260131T130000
DTEND;TZID=America/New_York:20260131T150000
DTSTAMP:20260420T120025
CREATED:20260113T194715Z
LAST-MODIFIED:20260113T194715Z
UID:13402-1769864400-1769871600@townofhawley.com
SUMMARY:Free AI Class
DESCRIPTION:
URL:https://townofhawley.com/event/free-ai-class/
LOCATION:Tyler Memorial Library\, 157 Main Street (Route 2)\, Charlemont\, MA\, 01339
CATEGORIES:Community Events
END:VEVENT
BEGIN:VEVENT
DTSTART;TZID=America/New_York:20260207T120000
DTEND;TZID=America/New_York:20260207T140000
DTSTAMP:20260420T120025
CREATED:20260119T152145Z
LAST-MODIFIED:20260119T152145Z
UID:13412-1770465600-1770472800@townofhawley.com
SUMMARY:Watercolor Painting
DESCRIPTION:
URL:https://townofhawley.com/event/watercolor-painting/
LOCATION:Tyler Memorial Library\, 157 Main Street (Route 2)\, Charlemont\, MA\, 01339
CATEGORIES:Arts and Culture,Community Events
END:VEVENT
BEGIN:VEVENT
DTSTART;TZID=America/New_York:20260224T163000
DTEND;TZID=America/New_York:20260224T183000
DTSTAMP:20260420T120025
CREATED:20260131T160547Z
LAST-MODIFIED:20260131T160547Z
UID:13435-1771950600-1771957800@townofhawley.com
SUMMARY:Canva Workshop
DESCRIPTION:This free workshop will help people learn to make colorful flyers with free software.
URL:https://townofhawley.com/event/canva-workshop/
LOCATION:Tyler Memorial Library\, 157 Main Street (Route 2)\, Charlemont\, MA\, 01339
CATEGORIES:Arts and Culture,Community Events
END:VEVENT
BEGIN:VEVENT
DTSTART;TZID=America/New_York:20260226T180000
DTEND;TZID=America/New_York:20260226T193000
DTSTAMP:20260420T120025
CREATED:20260211T180436Z
LAST-MODIFIED:20260226T135720Z
UID:13458-1772128800-1772134200@townofhawley.com
SUMMARY:Dugway Abutters' Information Session
DESCRIPTION:This meeting will answer any questions abutters to the Dugway may have about the plans to begin designing a plan to rework the Dugway in West Hawley. The design firm\, VHB\, will be there\, along with town officials.
URL:https://townofhawley.com/event/dugway-abutters-information-session/
LOCATION:Hawley Town Office\, 8 Pudding Hollow Road\, Hawley\, MA\, 01339\, United States
CATEGORIES:Community Events
END:VEVENT
BEGIN:VEVENT
DTSTART;TZID=America/New_York:20260309T173000
DTEND;TZID=America/New_York:20260309T190000
DTSTAMP:20260420T120025
CREATED:20260129T163111Z
LAST-MODIFIED:20260304T200818Z
UID:13429-1773077400-1773082800@townofhawley.com
SUMMARY:Town Hall Gathering with Senator Paul Mark
DESCRIPTION:
URL:https://townofhawley.com/event/town-hall-gathering-with-senator-paul-mark/
LOCATION:Hawley Town Office\, 8 Pudding Hollow Road\, Hawley\, MA\, 01339\, United States
CATEGORIES:Community Events,Meetings with Officials
END:VEVENT
BEGIN:VEVENT
DTSTART;TZID=America/New_York:20260314T140000
DTEND;TZID=America/New_York:20260314T160000
DTSTAMP:20260420T120025
CREATED:20260308T160651Z
LAST-MODIFIED:20260308T161002Z
UID:13495-1773496800-1773504000@townofhawley.com
SUMMARY:Biodynamic Gardening and Land Healing Class
DESCRIPTION:
URL:https://townofhawley.com/event/biodynamic-gardening-and-healing-class/
LOCATION:Meadowsweet Farm\, 59 Forget Road\, Hawley\, MA\, 01339
CATEGORIES:Community Events
END:VEVENT
BEGIN:VEVENT
DTSTART;TZID=America/New_York:20260325T170000
DTEND;TZID=America/New_York:20260325T190000
DTSTAMP:20260420T120026
CREATED:20260321T150801Z
LAST-MODIFIED:20260321T150801Z
UID:13518-1774458000-1774465200@townofhawley.com
SUMMARY:Digital Privacy Workshop
DESCRIPTION:
URL:https://townofhawley.com/event/digital-privacy-workshop/
LOCATION:Tyler Memorial Library\, 157 Main Street (Route 2)\, Charlemont\, MA\, 01339
CATEGORIES:Community Events
END:VEVENT
BEGIN:VEVENT
DTSTART;TZID=America/New_York:20260411T100000
DTEND;TZID=America/New_York:20260411T120000
DTSTAMP:20260420T120026
CREATED:20260326T151001Z
LAST-MODIFIED:20260326T151001Z
UID:13545-1775901600-1775908800@townofhawley.com
SUMMARY:Rabies Clinic at Fairgrounds
DESCRIPTION:
URL:https://townofhawley.com/event/rabies-clinic-at-fairgrounds/
LOCATION:Franklin County Fairgrounds\, 89 Wisdom Way\, Greenfield\, MA\, 01301\, United States
CATEGORIES:Community Events,Public Health
END:VEVENT
BEGIN:VEVENT
DTSTART;TZID=America/New_York:20260411T100000
DTEND;TZID=America/New_York:20260411T140000
DTSTAMP:20260420T120026
CREATED:20260326T144845Z
LAST-MODIFIED:20260326T144845Z
UID:13541-1775901600-1775916000@townofhawley.com
SUMMARY:School Visioning Meeting for Community
DESCRIPTION:
URL:https://townofhawley.com/event/school-visioning-meeting-for-community/
LOCATION:Mohawk Trail Regional School\, 26 Ashfield Road\, (Route 112 in Buckland)\, MA\, 01370
CATEGORIES:Community Events
END:VEVENT
BEGIN:VEVENT
DTSTART;TZID=America/New_York:20260411T120000
DTEND;TZID=America/New_York:20260411T140000
DTSTAMP:20260420T120026
CREATED:20260321T150930Z
LAST-MODIFIED:20260321T150930Z
UID:13520-1775908800-1775916000@townofhawley.com
SUMMARY:Stamp-Making Workshop
DESCRIPTION:
URL:https://townofhawley.com/event/stamp-making-workshop/
LOCATION:Massachusetts
CATEGORIES:Community Events
END:VEVENT
BEGIN:VEVENT
DTSTART;TZID=America/New_York:20260412T140000
DTEND;TZID=America/New_York:20260412T160000
DTSTAMP:20260420T120026
CREATED:20260326T145110Z
LAST-MODIFIED:20260326T145110Z
UID:13543-1776002400-1776009600@townofhawley.com
SUMMARY:Bicycle Rodeo
DESCRIPTION:
URL:https://townofhawley.com/event/bicycle-rodeo/
LOCATION:Charlemont Fairgrounds\, 1 Park Street\, Charlemont\, MA\, 01339
CATEGORIES:Children,Community Events
END:VEVENT
BEGIN:VEVENT
DTSTART;TZID=America/New_York:20260418T140000
DTEND;TZID=America/New_York:20260418T160000
DTSTAMP:20260420T120026
CREATED:20260326T151421Z
LAST-MODIFIED:20260326T151421Z
UID:13548-1776520800-1776528000@townofhawley.com
SUMMARY:Rabies Clinic at Former Heath Elementary School
DESCRIPTION:
URL:https://townofhawley.com/event/rabies-clinic-at-former-heath-elementary-school/
LOCATION:Former Heath Elementary School\, 18 Jacobs Road\, Heath\, MA\, 01338
CATEGORIES:Community Events,Public Health
END:VEVENT
BEGIN:VEVENT
DTSTART;TZID=America/New_York:20260425T120000
DTEND;TZID=America/New_York:20260425T140000
DTSTAMP:20260420T120026
CREATED:20260415T142559Z
LAST-MODIFIED:20260415T142559Z
UID:13571-1777118400-1777125600@townofhawley.com
SUMMARY:Library Open House: Find Your Joy!
DESCRIPTION:
URL:https://townofhawley.com/event/library-open-house-find-your-joy/
LOCATION:Tyler Memorial Library\, 157 Main Street (Route 2)\, Charlemont\, MA\, 01339
CATEGORIES:Community Events
END:VEVENT
BEGIN:VEVENT
DTSTART;TZID=America/New_York:20260502T100000
DTEND;TZID=America/New_York:20260502T150000
DTSTAMP:20260420T120026
CREATED:20260316T134308Z
LAST-MODIFIED:20260316T134308Z
UID:13512-1777716000-1777734000@townofhawley.com
SUMMARY:Audrey's Angels Craft Fair
DESCRIPTION:Over 30 vendors will have their wares available here.  Vendor fees will go to the Cystic Fibrosis Foundation. The fundraiser is held in memory of Audrey Clark of Shelburne\, who died at the age of 25 in 2019 from the disease.
URL:https://townofhawley.com/event/audreys-angels-craft-fair/
LOCATION:Mohawk Trail Regional School\, 26 Ashfield Road\, (Route 112 in Buckland)\, MA\, 01370
CATEGORIES:Community Events
END:VEVENT
BEGIN:VEVENT
DTSTART;TZID=America/New_York:20260507T190000
DTEND;TZID=America/New_York:20260507T210000
DTSTAMP:20260420T120026
CREATED:20260414T144955Z
LAST-MODIFIED:20260414T144955Z
UID:13570-1778180400-1778187600@townofhawley.com
SUMMARY:Charlemont Forum
DESCRIPTION:
URL:https://townofhawley.com/event/charlemont-forum/
LOCATION:Charlemont Federated Church\, 174 Main Street (Route 2)\, Charlemont\, MA\, 01339
CATEGORIES:Arts and Culture,Community Events
END:VEVENT
BEGIN:VEVENT
DTSTART;TZID=America/New_York:20260509T130000
DTEND;TZID=America/New_York:20260509T140000
DTSTAMP:20260420T120026
CREATED:20260416T151953Z
LAST-MODIFIED:20260416T151953Z
UID:13576-1778331600-1778335200@townofhawley.com
SUMMARY:Wingmasters: Birds of Prey
DESCRIPTION:
URL:https://townofhawley.com/event/wingmasters-birds-of-prey-2/
LOCATION:Hawlemont School\, 10 School Street\, Charlemont\, MA\, 01339
CATEGORIES:Community Events
END:VEVENT
END:VCALENDAR