BEGIN:VCALENDAR
VERSION:2.0
PRODID:-//Town of Hawley - ECPv6.15.20//NONSGML v1.0//EN
CALSCALE:GREGORIAN
METHOD:PUBLISH
X-WR-CALNAME:Town of Hawley
X-ORIGINAL-URL:https://townofhawley.com
X-WR-CALDESC:Events for Town of Hawley
REFRESH-INTERVAL;VALUE=DURATION:PT1H
X-Robots-Tag:noindex
X-PUBLISHED-TTL:PT1H
BEGIN:VTIMEZONE
TZID:America/New_York
BEGIN:DAYLIGHT
TZOFFSETFROM:-0500
TZOFFSETTO:-0400
TZNAME:EDT
DTSTART:20230312T070000
END:DAYLIGHT
BEGIN:STANDARD
TZOFFSETFROM:-0400
TZOFFSETTO:-0500
TZNAME:EST
DTSTART:20231105T060000
END:STANDARD
BEGIN:DAYLIGHT
TZOFFSETFROM:-0500
TZOFFSETTO:-0400
TZNAME:EDT
DTSTART:20240310T070000
END:DAYLIGHT
BEGIN:STANDARD
TZOFFSETFROM:-0400
TZOFFSETTO:-0500
TZNAME:EST
DTSTART:20241103T060000
END:STANDARD
BEGIN:DAYLIGHT
TZOFFSETFROM:-0500
TZOFFSETTO:-0400
TZNAME:EDT
DTSTART:20250309T070000
END:DAYLIGHT
BEGIN:STANDARD
TZOFFSETFROM:-0400
TZOFFSETTO:-0500
TZNAME:EST
DTSTART:20251102T060000
END:STANDARD
END:VTIMEZONE
BEGIN:VEVENT
DTSTART;TZID=America/New_York:20241019T123000
DTEND;TZID=America/New_York:20241019T140000
DTSTAMP:20260420T081605
CREATED:20240924T183942Z
LAST-MODIFIED:20240924T183942Z
UID:12553-1729341000-1729346400@townofhawley.com
SUMMARY:Grapevine Wreath Crafting Workshop
DESCRIPTION:
URL:https://townofhawley.com/event/grapevine-wreath-crafting-workshop/
LOCATION:Tyler Memorial Library\, 157 Main Street (Route 2)\, Charlemont\, MA\, 01339
CATEGORIES:Arts and Culture,Community Events
END:VEVENT
BEGIN:VEVENT
DTSTART;TZID=America/New_York:20241027T150000
DTEND;TZID=America/New_York:20241027T160000
DTSTAMP:20260420T081605
CREATED:20241004T182744Z
LAST-MODIFIED:20241014T135123Z
UID:12575-1730041200-1730044800@townofhawley.com
SUMMARY:Halloween Party for Hawley Children and Families
DESCRIPTION:Please let Tinky know if you’re coming … or want to help. We need an accurate count in advance so we’ll have enough treats!
URL:https://townofhawley.com/event/halloween-party-for-hawley-children-and-families/
LOCATION:The Hawley Grove\, East Hawley Road\, Hawley\, MA\, 01339
CATEGORIES:Community Events
END:VEVENT
BEGIN:VEVENT
DTSTART;TZID=America/New_York:20241030T150000
DTEND;TZID=America/New_York:20241030T190000
DTSTAMP:20260420T081605
CREATED:20240917T173410Z
LAST-MODIFIED:20240917T173410Z
UID:12540-1730300400-1730314800@townofhawley.com
SUMMARY:Community Resource Fair
DESCRIPTION:
URL:https://townofhawley.com/event/community-resource-fair/
LOCATION:Mohawk Trail Regional School\, 26 Ashfield Road\, (Route 112 in Buckland)\, MA\, 01370
CATEGORIES:Community Events
END:VEVENT
END:VCALENDAR