BEGIN:VCALENDAR
VERSION:2.0
PRODID:-//Town of Hawley - ECPv6.15.20//NONSGML v1.0//EN
CALSCALE:GREGORIAN
METHOD:PUBLISH
X-WR-CALNAME:Town of Hawley
X-ORIGINAL-URL:https://townofhawley.com
X-WR-CALDESC:Events for Town of Hawley
REFRESH-INTERVAL;VALUE=DURATION:PT1H
X-Robots-Tag:noindex
X-PUBLISHED-TTL:PT1H
BEGIN:VTIMEZONE
TZID:America/New_York
BEGIN:DAYLIGHT
TZOFFSETFROM:-0500
TZOFFSETTO:-0400
TZNAME:EDT
DTSTART:20230312T070000
END:DAYLIGHT
BEGIN:STANDARD
TZOFFSETFROM:-0400
TZOFFSETTO:-0500
TZNAME:EST
DTSTART:20231105T060000
END:STANDARD
BEGIN:DAYLIGHT
TZOFFSETFROM:-0500
TZOFFSETTO:-0400
TZNAME:EDT
DTSTART:20240310T070000
END:DAYLIGHT
BEGIN:STANDARD
TZOFFSETFROM:-0400
TZOFFSETTO:-0500
TZNAME:EST
DTSTART:20241103T060000
END:STANDARD
BEGIN:DAYLIGHT
TZOFFSETFROM:-0500
TZOFFSETTO:-0400
TZNAME:EDT
DTSTART:20250309T070000
END:DAYLIGHT
BEGIN:STANDARD
TZOFFSETFROM:-0400
TZOFFSETTO:-0500
TZNAME:EST
DTSTART:20251102T060000
END:STANDARD
END:VTIMEZONE
BEGIN:VEVENT
DTSTART;TZID=America/New_York:20240515T103000
DTEND;TZID=America/New_York:20240515T120000
DTSTAMP:20260423T052750
CREATED:20240501T151235Z
LAST-MODIFIED:20240501T151235Z
UID:12308-1715769000-1715774400@townofhawley.com
SUMMARY:Fun with Alice: A Free Concert
DESCRIPTION:Join soprano Tinky Weisblat and pianist Jerry Noble for a look back (well\, a listen back) at songs Tinky performed with the late Alice Parker when Alice and Tinky were known as the Divas of Hawley. The program will include American popular standards by such songwriters as the Gershwins and Johnny Mercer\, as well as some traditional American songs. \nThis free event is sponsored by the Charlemont-Hawley Arts Council and the Charlemont-Hawley Senior Center.
URL:https://townofhawley.com/event/fun-with-alice-a-free-concert/
LOCATION:Charlemont Federated Church\, 174 Main Street (Route 2)\, Charlemont\, MA\, 01339
CATEGORIES:Arts and Culture,Community Events
END:VEVENT
BEGIN:VEVENT
DTSTART;TZID=America/New_York:20240517T163000
DTEND;TZID=America/New_York:20240517T190000
DTSTAMP:20260423T052750
CREATED:20240510T141735Z
LAST-MODIFIED:20240510T152515Z
UID:12320-1715963400-1715972400@townofhawley.com
SUMMARY:Hawlemont School Celebration
DESCRIPTION:Hawlemont hosts its annual open house. The day will feature student exhibits\, an art show\, a plant sale\, and a taco bar … among other treats. Come see what our youngsters have been up to!
URL:https://townofhawley.com/event/hawlemont-school-celebration/
LOCATION:Hawlemont School\, 10 School Street\, Charlemont\, MA\, 01339
CATEGORIES:Community Events
END:VEVENT
BEGIN:VEVENT
DTSTART;TZID=America/New_York:20240523T170000
DTEND;TZID=America/New_York:20240523T180000
DTSTAMP:20260423T052750
CREATED:20240427T144431Z
LAST-MODIFIED:20240427T144431Z
UID:12300-1716483600-1716487200@townofhawley.com
SUMMARY:Windchime Crafting at the Library
DESCRIPTION:
URL:https://townofhawley.com/event/windchime-crafting-at-the-library/
LOCATION:Tyler Memorial Library\, 157 Main Street (Route 2)\, Charlemont\, MA\, 01339
CATEGORIES:Arts and Culture,Community Events
END:VEVENT
BEGIN:VEVENT
DTSTART;TZID=America/New_York:20240529T180000
DTEND;TZID=America/New_York:20240529T203000
DTSTAMP:20260423T052750
CREATED:20240501T150715Z
LAST-MODIFIED:20240521T163650Z
UID:12307-1717005600-1717014600@townofhawley.com
SUMMARY:Public Conversation about the Dugway
DESCRIPTION:Please join the Selectboard for a listening/talking session about the future of the Dugway. We need your input about possible repairs\, which will have a major effect on Hawley lives.  To entice the public\, there will be hamburgers and hotdogs cooked by our firefighters (plus salad and baked goods) at 6 p.m.\, followed by discussion. \nIf it rains and we have too many people to fit inside the Town Office\, we will adjourn to the Hawley Grove on East Hawley Road. This flyer can give you more information. \nQuestions? Call Tinky at 413-339-5518 or 339-4747.
URL:https://townofhawley.com/event/public-conversation-about-the-dugway/
LOCATION:Hawley Town Office\, 8 Pudding Hollow Road\, Hawley\, MA\, 01339\, United States
CATEGORIES:Community Events
END:VEVENT
END:VCALENDAR