BEGIN:VCALENDAR
VERSION:2.0
PRODID:-//Town of Hawley - ECPv6.15.20//NONSGML v1.0//EN
CALSCALE:GREGORIAN
METHOD:PUBLISH
X-ORIGINAL-URL:https://townofhawley.com
X-WR-CALDESC:Events for Town of Hawley
REFRESH-INTERVAL;VALUE=DURATION:PT1H
X-Robots-Tag:noindex
X-PUBLISHED-TTL:PT1H
BEGIN:VTIMEZONE
TZID:America/New_York
BEGIN:DAYLIGHT
TZOFFSETFROM:-0500
TZOFFSETTO:-0400
TZNAME:EDT
DTSTART:20230312T070000
END:DAYLIGHT
BEGIN:STANDARD
TZOFFSETFROM:-0400
TZOFFSETTO:-0500
TZNAME:EST
DTSTART:20231105T060000
END:STANDARD
BEGIN:DAYLIGHT
TZOFFSETFROM:-0500
TZOFFSETTO:-0400
TZNAME:EDT
DTSTART:20240310T070000
END:DAYLIGHT
BEGIN:STANDARD
TZOFFSETFROM:-0400
TZOFFSETTO:-0500
TZNAME:EST
DTSTART:20241103T060000
END:STANDARD
BEGIN:DAYLIGHT
TZOFFSETFROM:-0500
TZOFFSETTO:-0400
TZNAME:EDT
DTSTART:20250309T070000
END:DAYLIGHT
BEGIN:STANDARD
TZOFFSETFROM:-0400
TZOFFSETTO:-0500
TZNAME:EST
DTSTART:20251102T060000
END:STANDARD
END:VTIMEZONE
BEGIN:VEVENT
DTSTART;TZID=America/New_York:20240327T160000
DTEND;TZID=America/New_York:20240327T180000
DTSTAMP:20260423T050951
CREATED:20240304T191843Z
LAST-MODIFIED:20240304T191843Z
UID:12216-1711555200-1711562400@townofhawley.com
SUMMARY:Mohawk Trail School Annual Celebration
DESCRIPTION:
URL:https://townofhawley.com/event/mohawk-trail-school-annual-celebration/
LOCATION:Mohawk Trail Regional School\, 26 Ashfield Road\, (Route 112 in Buckland)\, MA\, 01370
CATEGORIES:Community Events
END:VEVENT
BEGIN:VEVENT
DTSTART;TZID=America/New_York:20240328T170000
DTEND;TZID=America/New_York:20240328T190000
DTSTAMP:20260423T050951
CREATED:20240301T165753Z
LAST-MODIFIED:20240301T165753Z
UID:12211-1711645200-1711652400@townofhawley.com
SUMMARY:Crafting at the Library: Felted Froggy Hoop
DESCRIPTION:
URL:https://townofhawley.com/event/crafting-at-the-library-felted-froggy-hoop/
LOCATION:Tyler Memorial Library\, 157 Main Street (Route 2)\, Charlemont\, MA\, 01339
CATEGORIES:Arts and Culture,Community Events
END:VEVENT
END:VCALENDAR