BEGIN:VCALENDAR
VERSION:2.0
PRODID:-//Town of Hawley - ECPv6.15.20//NONSGML v1.0//EN
CALSCALE:GREGORIAN
METHOD:PUBLISH
X-ORIGINAL-URL:https://townofhawley.com
X-WR-CALDESC:Events for Town of Hawley
REFRESH-INTERVAL;VALUE=DURATION:PT1H
X-Robots-Tag:noindex
X-PUBLISHED-TTL:PT1H
BEGIN:VTIMEZONE
TZID:America/New_York
BEGIN:DAYLIGHT
TZOFFSETFROM:-0500
TZOFFSETTO:-0400
TZNAME:EDT
DTSTART:20250309T070000
END:DAYLIGHT
BEGIN:STANDARD
TZOFFSETFROM:-0400
TZOFFSETTO:-0500
TZNAME:EST
DTSTART:20251102T060000
END:STANDARD
BEGIN:DAYLIGHT
TZOFFSETFROM:-0500
TZOFFSETTO:-0400
TZNAME:EDT
DTSTART:20260308T070000
END:DAYLIGHT
BEGIN:STANDARD
TZOFFSETFROM:-0400
TZOFFSETTO:-0500
TZNAME:EST
DTSTART:20261101T060000
END:STANDARD
BEGIN:DAYLIGHT
TZOFFSETFROM:-0500
TZOFFSETTO:-0400
TZNAME:EDT
DTSTART:20270314T070000
END:DAYLIGHT
BEGIN:STANDARD
TZOFFSETFROM:-0400
TZOFFSETTO:-0500
TZNAME:EST
DTSTART:20271107T060000
END:STANDARD
END:VTIMEZONE
BEGIN:VEVENT
DTSTART;TZID=America/New_York:20260210T190000
DTEND;TZID=America/New_York:20260210T203000
DTSTAMP:20260423T063933
CREATED:20260131T160724Z
LAST-MODIFIED:20260206T150917Z
UID:13437-1770750000-1770755400@townofhawley.com
SUMMARY:Selectmen/ZBA/ Board of Health
DESCRIPTION:Here is the agenda for this biweekly meeting.
URL:https://townofhawley.com/event/selectmen-zba-board-of-health-3/
LOCATION:Hawley Town Office\, 8 Pudding Hollow Road\, Hawley\, MA\, 01339\, United States
CATEGORIES:Board and Committee Meetings
END:VEVENT
BEGIN:VEVENT
DTSTART;TZID=America/New_York:20260211T080000
DTEND;TZID=America/New_York:20260211T093000
DTSTAMP:20260423T063933
CREATED:20260206T151049Z
LAST-MODIFIED:20260206T152429Z
UID:13449-1770796800-1770802200@townofhawley.com
SUMMARY:Finance Committee Meeting
DESCRIPTION:Here is the agenda for this meeting.
URL:https://townofhawley.com/event/finance-committee-meeting-7/
LOCATION:Hawley Town Office\, 8 Pudding Hollow Road\, Hawley\, MA\, 01339\, United States
CATEGORIES:Board and Committee Meetings
END:VEVENT
BEGIN:VEVENT
DTSTART;TZID=America/New_York:20260218T173000
DTEND;TZID=America/New_York:20260218T190000
DTSTAMP:20260423T063933
CREATED:20260213T141139Z
LAST-MODIFIED:20260218T151428Z
UID:13461-1771435800-1771441200@townofhawley.com
SUMMARY:Planning Board Meeting CANCELED
DESCRIPTION:This meeting has been postponed.
URL:https://townofhawley.com/event/planning-board-meeting-12/
LOCATION:Hawley Town Office\, 8 Pudding Hollow Road\, Hawley\, MA\, 01339\, United States
CATEGORIES:Board and Committee Meetings
END:VEVENT
BEGIN:VEVENT
DTSTART;TZID=America/New_York:20260224T190000
DTEND;TZID=America/New_York:20260224T203000
DTSTAMP:20260423T063933
CREATED:20260211T180601Z
LAST-MODIFIED:20260219T192745Z
UID:13459-1771959600-1771965000@townofhawley.com
SUMMARY:Selectmen/ZBA/Board of Health
DESCRIPTION:Here is the agenda for this biweekly meeting.
URL:https://townofhawley.com/event/selectmen-zba-board-of-health-4/
LOCATION:Hawley Town Office\, 8 Pudding Hollow Road\, Hawley\, MA\, 01339\, United States
CATEGORIES:Board and Committee Meetings
END:VEVENT
BEGIN:VEVENT
DTSTART;TZID=America/New_York:20260304T170000
DTEND;TZID=America/New_York:20260304T183000
DTSTAMP:20260423T063933
CREATED:20260225T211522Z
LAST-MODIFIED:20260225T211522Z
UID:13477-1772643600-1772649000@townofhawley.com
SUMMARY:Assessors Meet
DESCRIPTION:Here is the agenda for this monthly meeting.
URL:https://townofhawley.com/event/assessors-meet/
LOCATION:Hawley Town Office\, 8 Pudding Hollow Road\, Hawley\, MA\, 01339\, United States
CATEGORIES:Board and Committee Meetings
END:VEVENT
BEGIN:VEVENT
DTSTART;TZID=America/New_York:20260310T190000
DTEND;TZID=America/New_York:20260310T203000
DTSTAMP:20260423T063933
CREATED:20260303T203600Z
LAST-MODIFIED:20260306T142307Z
UID:13483-1773169200-1773174600@townofhawley.com
SUMMARY:Selectboard/ZBA/Board of Health
DESCRIPTION:Here is the agenda for this biweekly meeting.
URL:https://townofhawley.com/event/selectboard-zba-board-of-health-18/
LOCATION:Hawley Town Office\, 8 Pudding Hollow Road\, Hawley\, MA\, 01339\, United States
CATEGORIES:Board and Committee Meetings
END:VEVENT
BEGIN:VEVENT
DTSTART;TZID=America/New_York:20260312T080000
DTEND;TZID=America/New_York:20260312T093000
DTSTAMP:20260423T063933
CREATED:20260303T204126Z
LAST-MODIFIED:20260303T204126Z
UID:13486-1773302400-1773307800@townofhawley.com
SUMMARY:Conservation Commission Meeting
DESCRIPTION:Here is the agenda for this meeting.
URL:https://townofhawley.com/event/conservation-commission-meeting-9/
LOCATION:Hawley Town Office\, 8 Pudding Hollow Road\, Hawley\, MA\, 01339\, United States
CATEGORIES:Board and Committee Meetings
END:VEVENT
BEGIN:VEVENT
DTSTART;TZID=America/New_York:20260316T180000
DTEND;TZID=America/New_York:20260316T193000
DTSTAMP:20260423T063933
CREATED:20260310T184027Z
LAST-MODIFIED:20260310T184628Z
UID:13500-1773684000-1773689400@townofhawley.com
SUMMARY:Historical Commission Meeting
DESCRIPTION:Here is the agenda for this meeting.
URL:https://townofhawley.com/event/historical-commission-meeting-5/
LOCATION:Hawley Town Office\, 8 Pudding Hollow Road\, Hawley\, MA\, 01339\, United States
CATEGORIES:Board and Committee Meetings
END:VEVENT
BEGIN:VEVENT
DTSTART;TZID=America/New_York:20260318T173000
DTEND;TZID=America/New_York:20260318T190000
DTSTAMP:20260423T063933
CREATED:20260313T183850Z
LAST-MODIFIED:20260313T183850Z
UID:13506-1773855000-1773860400@townofhawley.com
SUMMARY:Planning Board Meeting
DESCRIPTION:Here is the agenda for this meeting.
URL:https://townofhawley.com/event/planning-board-meeting-13/
LOCATION:Hawley Town Office\, 8 Pudding Hollow Road\, Hawley\, MA\, 01339\, United States
CATEGORIES:Board and Committee Meetings
END:VEVENT
BEGIN:VEVENT
DTSTART;TZID=America/New_York:20260324T080000
DTEND;TZID=America/New_York:20260324T093000
DTSTAMP:20260423T063933
CREATED:20260321T151119Z
LAST-MODIFIED:20260321T151119Z
UID:13522-1774339200-1774344600@townofhawley.com
SUMMARY:Finance Committee Meeting
DESCRIPTION:Here is the agenda for this meeting.
URL:https://townofhawley.com/event/finance-committee-meeting-9/
LOCATION:Hawley Town Office\, 8 Pudding Hollow Road\, Hawley\, MA\, 01339\, United States
CATEGORIES:Board and Committee Meetings
END:VEVENT
BEGIN:VEVENT
DTSTART;TZID=America/New_York:20260324T190000
DTEND;TZID=America/New_York:20260324T203000
DTSTAMP:20260423T063933
CREATED:20260308T132046Z
LAST-MODIFIED:20260319T151048Z
UID:13494-1774378800-1774384200@townofhawley.com
SUMMARY:Selectboard/ZBA/Board of Health
DESCRIPTION:Here is the agenda for this biweekly meeting.
URL:https://townofhawley.com/event/selectboard-zba-board-of-health-19/
LOCATION:Hawley Town Office\, 8 Pudding Hollow Road\, Hawley\, MA\, 01339\, United States
CATEGORIES:Board and Committee Meetings
END:VEVENT
BEGIN:VEVENT
DTSTART;TZID=America/New_York:20260326T090000
DTEND;TZID=America/New_York:20260326T103000
DTSTAMP:20260423T063933
CREATED:20260308T131925Z
LAST-MODIFIED:20260308T131925Z
UID:13493-1774515600-1774521000@townofhawley.com
SUMMARY:Council on Aging Meets
DESCRIPTION:On the agenda: plans for 2026.
URL:https://townofhawley.com/event/council-on-aging-meets/
LOCATION:Hawley Town Office\, 8 Pudding Hollow Road\, Hawley\, MA\, 01339\, United States
CATEGORIES:Board and Committee Meetings
END:VEVENT
BEGIN:VEVENT
DTSTART;TZID=America/New_York:20260401T170000
DTEND;TZID=America/New_York:20260401T183000
DTSTAMP:20260423T063933
CREATED:20260326T131431Z
LAST-MODIFIED:20260326T131431Z
UID:13539-1775062800-1775068200@townofhawley.com
SUMMARY:Assessors' Meeting
DESCRIPTION:Here is the agenda for this meeting.
URL:https://townofhawley.com/event/assessors-meeting-31/
LOCATION:Hawley Town Office\, 8 Pudding Hollow Road\, Hawley\, MA\, 01339\, United States
CATEGORIES:Board and Committee Meetings
END:VEVENT
BEGIN:VEVENT
DTSTART;TZID=America/New_York:20260407T080000
DTEND;TZID=America/New_York:20260407T093000
DTSTAMP:20260423T063933
CREATED:20260324T195855Z
LAST-MODIFIED:20260324T195855Z
UID:13533-1775548800-1775554200@townofhawley.com
SUMMARY:Finance Committee Meets
DESCRIPTION:Here is the agenda for this meeting.
URL:https://townofhawley.com/event/finance-committee-meets-2/
LOCATION:Hawley Town Office\, 8 Pudding Hollow Road\, Hawley\, MA\, 01339\, United States
CATEGORIES:Board and Committee Meetings
END:VEVENT
BEGIN:VEVENT
DTSTART;TZID=America/New_York:20260407T190000
DTEND;TZID=America/New_York:20260407T203000
DTSTAMP:20260423T063933
CREATED:20260403T154929Z
LAST-MODIFIED:20260403T154929Z
UID:13554-1775588400-1775593800@townofhawley.com
SUMMARY:Selectboard/ZBA/Board of Health
DESCRIPTION:Here is the agenda for this bimonthly meeting.
URL:https://townofhawley.com/event/selectboard-zba-board-of-health-20/
LOCATION:Hawley Town Office\, 8 Pudding Hollow Road\, Hawley\, MA\, 01339\, United States
CATEGORIES:Board and Committee Meetings
END:VEVENT
BEGIN:VEVENT
DTSTART;TZID=America/New_York:20260414T190000
DTEND;TZID=America/New_York:20260414T203000
DTSTAMP:20260423T063933
CREATED:20260407T181102Z
LAST-MODIFIED:20260407T181140Z
UID:13563-1776193200-1776198600@townofhawley.com
SUMMARY:Selectboard and Finance Committee Meet
DESCRIPTION:Here is the agenda for this special meeting\, which will be devoted to the budget for the next fiscal year.
URL:https://townofhawley.com/event/selectboard-and-finance-committee-meet/
LOCATION:Hawley Town Office\, 8 Pudding Hollow Road\, Hawley\, MA\, 01339\, United States
CATEGORIES:Board and Committee Meetings
END:VEVENT
BEGIN:VEVENT
DTSTART;TZID=America/New_York:20260421T190000
DTEND;TZID=America/New_York:20260421T203000
DTSTAMP:20260423T063933
CREATED:20260416T152111Z
LAST-MODIFIED:20260416T152111Z
UID:13578-1776798000-1776803400@townofhawley.com
SUMMARY:Selectmen/ZBA/Board of Health
DESCRIPTION:
URL:https://townofhawley.com/event/selectmen-zba-board-of-health-5/
LOCATION:Hawley Town Office\, 8 Pudding Hollow Road\, Hawley\, MA\, 01339\, United States
CATEGORIES:Board and Committee Meetings
END:VEVENT
END:VCALENDAR