BEGIN:VCALENDAR
VERSION:2.0
PRODID:-//Town of Hawley - ECPv6.15.20//NONSGML v1.0//EN
CALSCALE:GREGORIAN
METHOD:PUBLISH
X-ORIGINAL-URL:https://townofhawley.com
X-WR-CALDESC:Events for Town of Hawley
REFRESH-INTERVAL;VALUE=DURATION:PT1H
X-Robots-Tag:noindex
X-PUBLISHED-TTL:PT1H
BEGIN:VTIMEZONE
TZID:America/New_York
BEGIN:DAYLIGHT
TZOFFSETFROM:-0500
TZOFFSETTO:-0400
TZNAME:EDT
DTSTART:20240310T070000
END:DAYLIGHT
BEGIN:STANDARD
TZOFFSETFROM:-0400
TZOFFSETTO:-0500
TZNAME:EST
DTSTART:20241103T060000
END:STANDARD
BEGIN:DAYLIGHT
TZOFFSETFROM:-0500
TZOFFSETTO:-0400
TZNAME:EDT
DTSTART:20250309T070000
END:DAYLIGHT
BEGIN:STANDARD
TZOFFSETFROM:-0400
TZOFFSETTO:-0500
TZNAME:EST
DTSTART:20251102T060000
END:STANDARD
BEGIN:DAYLIGHT
TZOFFSETFROM:-0500
TZOFFSETTO:-0400
TZNAME:EDT
DTSTART:20260308T070000
END:DAYLIGHT
BEGIN:STANDARD
TZOFFSETFROM:-0400
TZOFFSETTO:-0500
TZNAME:EST
DTSTART:20261101T060000
END:STANDARD
END:VTIMEZONE
BEGIN:VEVENT
DTSTART;TZID=America/New_York:20250314T130000
DTEND;TZID=America/New_York:20250314T143000
DTSTAMP:20260422T095948
CREATED:20250311T195924Z
LAST-MODIFIED:20250311T195924Z
UID:12868-1741957200-1741962600@townofhawley.com
SUMMARY:Finance Committee Meeting
DESCRIPTION:Here is the agenda for this meeting.
URL:https://townofhawley.com/event/finance-committee-meeting-5/
LOCATION:Hawley Town Office\, 8 Pudding Hollow Road\, Hawley\, MA\, 01339\, United States
CATEGORIES:Board and Committee Meetings
END:VEVENT
BEGIN:VEVENT
DTSTART;TZID=America/New_York:20250317T150000
DTEND;TZID=America/New_York:20250317T170000
DTSTAMP:20260422T095948
CREATED:20250226T154044Z
LAST-MODIFIED:20250226T154044Z
UID:12843-1742223600-1742230800@townofhawley.com
SUMMARY:Personnel Committee Meeting
DESCRIPTION:Hawley’s Personnel Committee will discuss proposed changes to their policy.
URL:https://townofhawley.com/event/personnel-committee-meeting-3/
LOCATION:Hawley Town Office\, 8 Pudding Hollow Road\, Hawley\, MA\, 01339\, United States
CATEGORIES:Board and Committee Meetings
END:VEVENT
BEGIN:VEVENT
DTSTART;TZID=America/New_York:20250325T190000
DTEND;TZID=America/New_York:20250325T203000
DTSTAMP:20260422T095948
CREATED:20250314T135013Z
LAST-MODIFIED:20250320T133526Z
UID:12873-1742929200-1742934600@townofhawley.com
SUMMARY:Selectboard/ZBA/Board of Health
DESCRIPTION:Here is the agenda for this biweekly meeting.
URL:https://townofhawley.com/event/selectboard-zba-board-of-health-2/
LOCATION:Hawley Town Office\, 8 Pudding Hollow Road\, Hawley\, MA\, 01339\, United States
CATEGORIES:Board and Committee Meetings
END:VEVENT
BEGIN:VEVENT
DTSTART;TZID=America/New_York:20250402T170000
DTEND;TZID=America/New_York:20250402T183000
DTSTAMP:20260422T095948
CREATED:20250326T170156Z
LAST-MODIFIED:20250326T170156Z
UID:12900-1743613200-1743618600@townofhawley.com
SUMMARY:Assessors' Meeting
DESCRIPTION:Here is the agenda for this monthly meeting.
URL:https://townofhawley.com/event/assessors-meeting-22/
LOCATION:Hawley Town Office\, 8 Pudding Hollow Road\, Hawley\, MA\, 01339\, United States
CATEGORIES:Board and Committee Meetings
END:VEVENT
BEGIN:VEVENT
DTSTART;TZID=America/New_York:20250407T090000
DTEND;TZID=America/New_York:20250407T110000
DTSTAMP:20260422T095948
CREATED:20250321T192713Z
LAST-MODIFIED:20250321T192713Z
UID:12896-1744016400-1744023600@townofhawley.com
SUMMARY:Council on Aging Meeting
DESCRIPTION:
URL:https://townofhawley.com/event/council-on-aging-meeting-6/
LOCATION:Hawley Town Office\, 8 Pudding Hollow Road\, Hawley\, MA\, 01339\, United States
CATEGORIES:Board and Committee Meetings
END:VEVENT
BEGIN:VEVENT
DTSTART;TZID=America/New_York:20250408T183000
DTEND;TZID=America/New_York:20250408T203000
DTSTAMP:20260422T095948
CREATED:20250319T164646Z
LAST-MODIFIED:20250405T153444Z
UID:12876-1744137000-1744144200@townofhawley.com
SUMMARY:Pole Hearing Followed by Selectboard/ZBA/Board of Health Meeting
DESCRIPTION:Here is the agenda for this meeting. The meeting will begin at 6:30 with a pole hearing with National Grid/Verizon about work on Ashfield Road. Here is a map of the proposed change.
URL:https://townofhawley.com/event/pole-hearing-followed-by-selectboard-zba-board-of-health-meeting/
LOCATION:Hawley Town Office\, 8 Pudding Hollow Road\, Hawley\, MA\, 01339\, United States
CATEGORIES:Board and Committee Meetings
END:VEVENT
BEGIN:VEVENT
DTSTART;TZID=America/New_York:20250416T170000
DTEND;TZID=America/New_York:20250416T180000
DTSTAMP:20260422T095948
CREATED:20250410T023943Z
LAST-MODIFIED:20250410T023943Z
UID:12933-1744822800-1744826400@townofhawley.com
SUMMARY:Planning Board Meeting
DESCRIPTION:Agenda items before the Planning Board’s upcoming meeting: \n\nApproval of February (lack of quorum for March meeting) minutes\,\nDiscussion of necessary steps to bring the proposed definition and bylaw amendment (for state-mandated ADU compliance) before the town for approval at a special town meeting\,\nAny other business not reasonably anticipated 48 hours in advance of this meeting
URL:https://townofhawley.com/event/planning-board-meeting-7/
LOCATION:Hawley Town Office\, 8 Pudding Hollow Road\, Hawley\, MA\, 01339\, United States
CATEGORIES:Board and Committee Meetings
END:VEVENT
BEGIN:VEVENT
DTSTART;TZID=America/New_York:20250422T190000
DTEND;TZID=America/New_York:20250422T203000
DTSTAMP:20260422T095948
CREATED:20250412T143106Z
LAST-MODIFIED:20250424T144502Z
UID:12935-1745348400-1745353800@townofhawley.com
SUMMARY:Selectboard/ZBA/Board of Health
DESCRIPTION:Here is the agenda for this biweekly meeting.
URL:https://townofhawley.com/event/selectboard-zba-board-of-health-3/
LOCATION:Hawley Town Office\, 8 Pudding Hollow Road\, Hawley\, MA\, 01339\, United States
CATEGORIES:Board and Committee Meetings
END:VEVENT
BEGIN:VEVENT
DTSTART;TZID=America/New_York:20250506T190000
DTEND;TZID=America/New_York:20250506T203000
DTSTAMP:20260422T095948
CREATED:20250502T134309Z
LAST-MODIFIED:20250502T135637Z
UID:12969-1746558000-1746563400@townofhawley.com
SUMMARY:Selectboard/ZBA/Board of Health
DESCRIPTION:Here is the agenda for this biweekly meeting.
URL:https://townofhawley.com/event/selectboard-zba-board-of-health-4/
LOCATION:Hawley Town Office\, 8 Pudding Hollow Road\, Hawley\, MA\, 01339\, United States
CATEGORIES:Board and Committee Meetings
END:VEVENT
BEGIN:VEVENT
DTSTART;TZID=America/New_York:20250507T170000
DTEND;TZID=America/New_York:20250507T183000
DTSTAMP:20260422T095948
CREATED:20250412T143222Z
LAST-MODIFIED:20250430T154128Z
UID:12936-1746637200-1746642600@townofhawley.com
SUMMARY:Assessors' Meeting
DESCRIPTION:Here is the agenda for this monthly meeting.
URL:https://townofhawley.com/event/assessors-meeting-23/
LOCATION:Hawley Town Office\, 8 Pudding Hollow Road\, Hawley\, MA\, 01339\, United States
CATEGORIES:Board and Committee Meetings
END:VEVENT
BEGIN:VEVENT
DTSTART;TZID=America/New_York:20250508T190000
DTEND;TZID=America/New_York:20250508T203000
DTSTAMP:20260422T095948
CREATED:20250411T231941Z
LAST-MODIFIED:20250414T131426Z
UID:12934-1746730800-1746736200@townofhawley.com
SUMMARY:Conservation Commission Meeting
DESCRIPTION:THE AGENDA:\n\nAct on a Notice of Intent filed in accordance with the Wetlands Protection Act. Notice has been filed by the Town of Hawley concerning the replacement of a culvert on Ashfield Road.  Copies of the Notice of Intent may be viewed at the Hawley Town Office during office hours of the Administrative Assistant. or by contracting Lloyd Crawford\n\nUpdate on status of other projects underway:  Ashfield Road\, King Corner Culvert\,Hawley Garage Bank improvement.\n\nReview minutes of prior meetings\n\nAny other new business not reasonably anticipated 48 hours in advance of this meeting
URL:https://townofhawley.com/event/conservation-commission-meeting-7/
LOCATION:Hawley Town Office\, 8 Pudding Hollow Road\, Hawley\, MA\, 01339\, United States
CATEGORIES:Board and Committee Meetings
END:VEVENT
BEGIN:VEVENT
DTSTART;TZID=America/New_York:20250520T190000
DTEND;TZID=America/New_York:20250520T203000
DTSTAMP:20260422T095948
CREATED:20250515T185526Z
LAST-MODIFIED:20250516T132741Z
UID:12987-1747767600-1747773000@townofhawley.com
SUMMARY:Selectboard/ZBA/Board of Health
DESCRIPTION:Here is the agenda for this biweekly meeting.
URL:https://townofhawley.com/event/selectboard-zba-board-of-health-5/
LOCATION:Hawley Town Office\, 8 Pudding Hollow Road\, Hawley\, MA\, 01339\, United States
CATEGORIES:Board and Committee Meetings
END:VEVENT
BEGIN:VEVENT
DTSTART;TZID=America/New_York:20250527T163000
DTEND;TZID=America/New_York:20250527T173000
DTSTAMP:20260422T095948
CREATED:20250522T150552Z
LAST-MODIFIED:20250522T153124Z
UID:12995-1748363400-1748367000@townofhawley.com
SUMMARY:Council on Aging Meeting
DESCRIPTION:The group will confer with LifePath about the Villages program. Here is the Zoom link for participation: \nhttps://us06web.zoom.us/j/8680277392?pwd=UjhaLzdiZFhGR043SGwvOXdBZjgzQT09 \n 
URL:https://townofhawley.com/event/council-on-aging-meeting-7/
LOCATION:Hawley Town Office\, 8 Pudding Hollow Road\, Hawley\, MA\, 01339\, United States
CATEGORIES:Board and Committee Meetings
END:VEVENT
BEGIN:VEVENT
DTSTART;TZID=America/New_York:20250603T173000
DTEND;TZID=America/New_York:20250603T183000
DTSTAMP:20260422T095948
CREATED:20250523T145542Z
LAST-MODIFIED:20250523T145542Z
UID:12999-1748971800-1748975400@townofhawley.com
SUMMARY:Conservation Commission Meeting
DESCRIPTION:Here is the agenda for this meeting.
URL:https://townofhawley.com/event/conservation-commission-meeting-8/
LOCATION:Hawley Town Office\, 8 Pudding Hollow Road\, Hawley\, MA\, 01339\, United States
CATEGORIES:Board and Committee Meetings
END:VEVENT
BEGIN:VEVENT
DTSTART;TZID=America/New_York:20250603T190000
DTEND;TZID=America/New_York:20250603T203000
DTSTAMP:20260422T095948
CREATED:20250527T174221Z
LAST-MODIFIED:20250527T174221Z
UID:13011-1748977200-1748982600@townofhawley.com
SUMMARY:Selectboard/ZBA/Board of Health
DESCRIPTION:
URL:https://townofhawley.com/event/selectboard-zba-board-of-health-6/
LOCATION:Hawley Town Office\, 8 Pudding Hollow Road\, Hawley\, MA\, 01339\, United States
CATEGORIES:Board and Committee Meetings
END:VEVENT
BEGIN:VEVENT
DTSTART;TZID=America/New_York:20250617T190000
DTEND;TZID=America/New_York:20250617T203000
DTSTAMP:20260422T095948
CREATED:20250609T143403Z
LAST-MODIFIED:20250613T143955Z
UID:13026-1750186800-1750192200@townofhawley.com
SUMMARY:Selectboard/ZBA/Board of Health
DESCRIPTION:Here is the agenda for this biweekly meeting.
URL:https://townofhawley.com/event/selectboard-zba-board-of-health-7/
LOCATION:Hawley Town Office\, 8 Pudding Hollow Road\, Hawley\, MA\, 01339\, United States
CATEGORIES:Board and Committee Meetings
END:VEVENT
BEGIN:VEVENT
DTSTART;TZID=America/New_York:20250701T190000
DTEND;TZID=America/New_York:20250701T203000
DTSTAMP:20260422T095948
CREATED:20250619T153447Z
LAST-MODIFIED:20250627T182725Z
UID:13056-1751396400-1751401800@townofhawley.com
SUMMARY:Selectboard/ZBA/Board of Health Meeting
DESCRIPTION:Here is the agenda for this biweekly meeting.
URL:https://townofhawley.com/event/selectboard-zba-board-of-health-meeting-34/
LOCATION:Hawley Town Office\, 8 Pudding Hollow Road\, Hawley\, MA\, 01339\, United States
CATEGORIES:Board and Committee Meetings
END:VEVENT
BEGIN:VEVENT
DTSTART;TZID=America/New_York:20250702T170000
DTEND;TZID=America/New_York:20250702T183000
DTSTAMP:20260422T095948
CREATED:20250619T153531Z
LAST-MODIFIED:20250625T212756Z
UID:13057-1751475600-1751481000@townofhawley.com
SUMMARY:Assessors' Meeting
DESCRIPTION:Here is the agenda for this meeting: \n\nReview and approval of prior meeting minutes (June)\nAct on any Motor Vehicle Excise Commitments and abatements\nAct on uncollectable RE Tax abatement\nUpdate on current projects underway (sales report; cyclical inspections)\nPlanning for this year’s projects\nAny other business not reasonably anticipated prior to posting this agenda\n\nPosted: 6/25/2025 \n 
URL:https://townofhawley.com/event/assessors-meeting-24/
LOCATION:Hawley Town Office\, 8 Pudding Hollow Road\, Hawley\, MA\, 01339\, United States
CATEGORIES:Board and Committee Meetings
END:VEVENT
BEGIN:VEVENT
DTSTART;TZID=America/New_York:20250715T190000
DTEND;TZID=America/New_York:20250715T203000
DTSTAMP:20260422T095948
CREATED:20250702T194808Z
LAST-MODIFIED:20250711T144250Z
UID:13078-1752606000-1752611400@townofhawley.com
SUMMARY:Selectboard/ZBA/Board of Health Meeting
DESCRIPTION:Agenda 7-15-25 for this biweekly meeting.
URL:https://townofhawley.com/event/selectboard-zba-board-of-health-meeting-35/
LOCATION:Hawley Town Office\, 8 Pudding Hollow Road\, Hawley\, MA\, 01339\, United States
CATEGORIES:Board and Committee Meetings
END:VEVENT
BEGIN:VEVENT
DTSTART;TZID=America/New_York:20250716T170000
DTEND;TZID=America/New_York:20250716T183000
DTSTAMP:20260422T095948
CREATED:20250710T175321Z
LAST-MODIFIED:20250716T163654Z
UID:13097-1752685200-1752690600@townofhawley.com
SUMMARY:Planning Board Meeting
DESCRIPTION:Items to come before the Planning Board Meeting at the Hawley Town Office \nMeeting Date and time July 16\, 2025\, at 5 p.m.\, Hawley Town Office \n\nApproval of past minutes\nUpdates on ADU draft by-law\nDiscussion of current mobile home bylaws\nAny other business reasonably anticipated 48 hours in advance of this meeting
URL:https://townofhawley.com/event/planning-board-meeting-8/
LOCATION:Hawley Town Office\, 8 Pudding Hollow Road\, Hawley\, MA\, 01339\, United States
CATEGORIES:Board and Committee Meetings
END:VEVENT
BEGIN:VEVENT
DTSTART;TZID=America/New_York:20250722T190000
DTEND;TZID=America/New_York:20250722T203000
DTSTAMP:20260422T095948
CREATED:20250609T144424Z
LAST-MODIFIED:20250717T171355Z
UID:13029-1753210800-1753216200@townofhawley.com
SUMMARY:Selectboard and Personnel Committee Meeting
DESCRIPTION:The two boards will discuss proposed changes to Hawley’s Personnel Policy. Here is the formal agenda.
URL:https://townofhawley.com/event/selectboard-and-personnel-committee-meeting/
LOCATION:Hawley Town Office\, 8 Pudding Hollow Road\, Hawley\, MA\, 01339\, United States
CATEGORIES:Board and Committee Meetings
END:VEVENT
BEGIN:VEVENT
DTSTART;TZID=America/New_York:20250729T190000
DTEND;TZID=America/New_York:20250729T203000
DTSTAMP:20260422T095948
CREATED:20250723T195133Z
LAST-MODIFIED:20250725T151643Z
UID:13116-1753815600-1753821000@townofhawley.com
SUMMARY:Selectboard/ZBA/Board of Health
DESCRIPTION:Here is the agenda for this biweekly meeting.
URL:https://townofhawley.com/event/selectboard-zba-board-of-health-8/
LOCATION:Hawley Town Office\, 8 Pudding Hollow Road\, Hawley\, MA\, 01339\, United States
CATEGORIES:Board and Committee Meetings
END:VEVENT
BEGIN:VEVENT
DTSTART;TZID=America/New_York:20250806T170000
DTEND;TZID=America/New_York:20250806T183000
DTSTAMP:20260422T095948
CREATED:20250730T174235Z
LAST-MODIFIED:20250730T175504Z
UID:13123-1754499600-1754505000@townofhawley.com
SUMMARY:Board of Assessors
DESCRIPTION:Here is the agenda for this monthly meeting.
URL:https://townofhawley.com/event/board-of-assessors-2/
LOCATION:Hawley Town Office\, 8 Pudding Hollow Road\, Hawley\, MA\, 01339\, United States
CATEGORIES:Board and Committee Meetings
END:VEVENT
BEGIN:VEVENT
DTSTART;TZID=America/New_York:20250812T190000
DTEND;TZID=America/New_York:20250812T203000
DTSTAMP:20260422T095948
CREATED:20250807T143118Z
LAST-MODIFIED:20250807T143118Z
UID:13130-1755025200-1755030600@townofhawley.com
SUMMARY:Selectboard\, ZBA. Board of Health
DESCRIPTION:
URL:https://townofhawley.com/event/selectboard-zba-board-of-health-9/
LOCATION:Hawley Town Office\, 8 Pudding Hollow Road\, Hawley\, MA\, 01339\, United States
CATEGORIES:Board and Committee Meetings
END:VEVENT
BEGIN:VEVENT
DTSTART;TZID=America/New_York:20250826T190000
DTEND;TZID=America/New_York:20250826T203000
DTSTAMP:20260422T095948
CREATED:20250813T170333Z
LAST-MODIFIED:20250822T165600Z
UID:13133-1756234800-1756240200@townofhawley.com
SUMMARY:Selectboard/ZBA/Board of Health
DESCRIPTION:Here is the agenda for this biweekly meeting.
URL:https://townofhawley.com/event/selectboard-zba-board-of-health-10/
LOCATION:Hawley Town Office\, 8 Pudding Hollow Road\, Hawley\, MA\, 01339\, United States
CATEGORIES:Board and Committee Meetings
END:VEVENT
BEGIN:VEVENT
DTSTART;TZID=America/New_York:20250903T170000
DTEND;TZID=America/New_York:20250903T183000
DTSTAMP:20260422T095948
CREATED:20250827T175628Z
LAST-MODIFIED:20250827T175716Z
UID:13166-1756918800-1756924200@townofhawley.com
SUMMARY:Assessors' Meeting
DESCRIPTION:Here is the agenda for this monthly meeting.
URL:https://townofhawley.com/event/assessors-meeting-25/
LOCATION:Hawley Town Office\, 8 Pudding Hollow Road\, Hawley\, MA\, 01339\, United States
CATEGORIES:Board and Committee Meetings
END:VEVENT
BEGIN:VEVENT
DTSTART;TZID=America/New_York:20250905T090000
DTEND;TZID=America/New_York:20250905T103000
DTSTAMP:20260422T095948
CREATED:20250902T162832Z
LAST-MODIFIED:20250902T162832Z
UID:13182-1757062800-1757068200@townofhawley.com
SUMMARY:Council on Aging
DESCRIPTION:The Council on Aging will meet to discuss fall events and plans.
URL:https://townofhawley.com/event/council-on-aging/
LOCATION:Hawley Town Office\, 8 Pudding Hollow Road\, Hawley\, MA\, 01339\, United States
CATEGORIES:Board and Committee Meetings
END:VEVENT
BEGIN:VEVENT
DTSTART;TZID=America/New_York:20250908T170000
DTEND;TZID=America/New_York:20250908T183000
DTSTAMP:20260422T095948
CREATED:20250901T202350Z
LAST-MODIFIED:20250901T202407Z
UID:13179-1757350800-1757356200@townofhawley.com
SUMMARY:Historical Commission
DESCRIPTION:Here is the agenda for this commission meeting.
URL:https://townofhawley.com/event/historical-commission/
LOCATION:Hawley Town Office\, 8 Pudding Hollow Road\, Hawley\, MA\, 01339\, United States
CATEGORIES:Board and Committee Meetings
END:VEVENT
BEGIN:VEVENT
DTSTART;TZID=America/New_York:20250909T190000
DTEND;TZID=America/New_York:20250909T203000
DTSTAMP:20260422T095948
CREATED:20250826T192915Z
LAST-MODIFIED:20250905T140259Z
UID:13154-1757444400-1757449800@townofhawley.com
SUMMARY:Selectboard/ZBA/Board of Health
DESCRIPTION:Here is the agenda for this biweekly meeting.
URL:https://townofhawley.com/event/selectboard-zba-board-of-health-11/
LOCATION:Hawley Town Office\, 8 Pudding Hollow Road\, Hawley\, MA\, 01339\, United States
CATEGORIES:Board and Committee Meetings
END:VEVENT
BEGIN:VEVENT
DTSTART;TZID=America/New_York:20250923T080000
DTEND;TZID=America/New_York:20250923T093000
DTSTAMP:20260422T095948
CREATED:20250916T183238Z
LAST-MODIFIED:20250916T183238Z
UID:13201-1758614400-1758619800@townofhawley.com
SUMMARY:Finance Committee Meeting
DESCRIPTION:Here is the agenda for this meeting.
URL:https://townofhawley.com/event/finance-committee-meeting-6/
LOCATION:Hawley Town Office\, 8 Pudding Hollow Road\, Hawley\, MA\, 01339\, United States
CATEGORIES:Board and Committee Meetings
END:VEVENT
END:VCALENDAR