BEGIN:VCALENDAR
VERSION:2.0
PRODID:-//Town of Hawley - ECPv6.15.20//NONSGML v1.0//EN
CALSCALE:GREGORIAN
METHOD:PUBLISH
X-WR-CALNAME:Town of Hawley
X-ORIGINAL-URL:https://townofhawley.com
X-WR-CALDESC:Events for Town of Hawley
REFRESH-INTERVAL;VALUE=DURATION:PT1H
X-Robots-Tag:noindex
X-PUBLISHED-TTL:PT1H
BEGIN:VTIMEZONE
TZID:America/New_York
BEGIN:DAYLIGHT
TZOFFSETFROM:-0500
TZOFFSETTO:-0400
TZNAME:EDT
DTSTART:20240310T070000
END:DAYLIGHT
BEGIN:STANDARD
TZOFFSETFROM:-0400
TZOFFSETTO:-0500
TZNAME:EST
DTSTART:20241103T060000
END:STANDARD
BEGIN:DAYLIGHT
TZOFFSETFROM:-0500
TZOFFSETTO:-0400
TZNAME:EDT
DTSTART:20250309T070000
END:DAYLIGHT
BEGIN:STANDARD
TZOFFSETFROM:-0400
TZOFFSETTO:-0500
TZNAME:EST
DTSTART:20251102T060000
END:STANDARD
BEGIN:DAYLIGHT
TZOFFSETFROM:-0500
TZOFFSETTO:-0400
TZNAME:EDT
DTSTART:20260308T070000
END:DAYLIGHT
BEGIN:STANDARD
TZOFFSETFROM:-0400
TZOFFSETTO:-0500
TZNAME:EST
DTSTART:20261101T060000
END:STANDARD
END:VTIMEZONE
BEGIN:VEVENT
DTSTART;TZID=America/New_York:20250108T170000
DTEND;TZID=America/New_York:20250108T183000
DTSTAMP:20260422T050306
CREATED:20241222T160200Z
LAST-MODIFIED:20250105T220801Z
UID:12737-1736355600-1736361000@townofhawley.com
SUMMARY:Assessors' Meeting
DESCRIPTION:Here is the agenda for this monthly meeting.
URL:https://townofhawley.com/event/assessors-meeting-19/
LOCATION:Hawley Town Office\, 8 Pudding Hollow Road\, Hawley\, MA\, 01339\, United States
CATEGORIES:Board and Committee Meetings
END:VEVENT
BEGIN:VEVENT
DTSTART;TZID=America/New_York:20250114T190000
DTEND;TZID=America/New_York:20250114T203000
DTSTAMP:20260422T050306
CREATED:20241227T163124Z
LAST-MODIFIED:20250109T194042Z
UID:12742-1736881200-1736886600@townofhawley.com
SUMMARY:Selectboard/ZBA/Board of Health Meeting
DESCRIPTION:Here is the agenda for this biweekly meeting.
URL:https://townofhawley.com/event/selectboard-zba-board-of-health-meeting-29/
LOCATION:Hawley Town Office\, 8 Pudding Hollow Road\, Hawley\, MA\, 01339\, United States
CATEGORIES:Board and Committee Meetings
END:VEVENT
BEGIN:VEVENT
DTSTART;TZID=America/New_York:20250115T170000
DTEND;TZID=America/New_York:20250115T183000
DTSTAMP:20260422T050306
CREATED:20250113T154639Z
LAST-MODIFIED:20250113T154639Z
UID:12776-1736960400-1736965800@townofhawley.com
SUMMARY:Planning Board Meeting
DESCRIPTION:Here is the agenda for this meeting.
URL:https://townofhawley.com/event/planning-board-meeting-5/
LOCATION:Hawley Town Office\, 8 Pudding Hollow Road\, Hawley\, MA\, 01339\, United States
CATEGORIES:Board and Committee Meetings
END:VEVENT
BEGIN:VEVENT
DTSTART;TZID=America/New_York:20250122T100000
DTEND;TZID=America/New_York:20250122T110000
DTSTAMP:20260422T050306
CREATED:20250111T175101Z
LAST-MODIFIED:20250111T175101Z
UID:12772-1737540000-1737543600@townofhawley.com
SUMMARY:Council on Aging Meeting
DESCRIPTION: The COUNCIL ON AGING will meet on \nWednesday\, January 22\, 2025\, at 10 a.m. \nAt The Hawley Town Office \nThe group will discuss grant possibilities\, upcoming activities\, and any other business that crops up after the posting of this meeting. \nThe group will discuss grant possibilities\, upcoming activities\, and any other business that crops up after the posting of this meeting.
URL:https://townofhawley.com/event/council-on-aging-meeting-4/
LOCATION:Hawley Town Office\, 8 Pudding Hollow Road\, Hawley\, MA\, 01339\, United States
CATEGORIES:Board and Committee Meetings
END:VEVENT
BEGIN:VEVENT
DTSTART;TZID=America/New_York:20250128T183000
DTEND;TZID=America/New_York:20250128T203000
DTSTAMP:20260422T050306
CREATED:20241227T163812Z
LAST-MODIFIED:20250123T192004Z
UID:12746-1738089000-1738096200@townofhawley.com
SUMMARY:Pole Hearing and Selectboard/ZBA/Board of Health Meeting
DESCRIPTION:This meeting includes a pole hearing with National Grid about removing one pole and installing two on East Road. Here is a map of the poles in question. Here is the agenda.
URL:https://townofhawley.com/event/selectboard-zba-board-of-health-meeting-31/
LOCATION:Hawley Town Office\, 8 Pudding Hollow Road\, Hawley\, MA\, 01339\, United States
CATEGORIES:Board and Committee Meetings
END:VEVENT
END:VCALENDAR